BEGIN:VCALENDAR
VERSION:2.0
PRODID:-//Compagnie Les Diptik - ECPv6.15.20//NONSGML v1.0//EN
CALSCALE:GREGORIAN
METHOD:PUBLISH
X-WR-CALNAME:Compagnie Les Diptik
X-ORIGINAL-URL:https://lesdiptik.com/en/
X-WR-CALDESC:Events for Compagnie Les Diptik
REFRESH-INTERVAL;VALUE=DURATION:PT1H
X-Robots-Tag:noindex
X-PUBLISHED-TTL:PT1H
BEGIN:VTIMEZONE
TZID:Europe/Paris
BEGIN:DAYLIGHT
TZOFFSETFROM:+0100
TZOFFSETTO:+0200
TZNAME:CEST
DTSTART:20200329T010000
END:DAYLIGHT
BEGIN:STANDARD
TZOFFSETFROM:+0200
TZOFFSETTO:+0100
TZNAME:CET
DTSTART:20201025T010000
END:STANDARD
BEGIN:DAYLIGHT
TZOFFSETFROM:+0100
TZOFFSETTO:+0200
TZNAME:CEST
DTSTART:20210328T010000
END:DAYLIGHT
BEGIN:STANDARD
TZOFFSETFROM:+0200
TZOFFSETTO:+0100
TZNAME:CET
DTSTART:20211031T010000
END:STANDARD
BEGIN:DAYLIGHT
TZOFFSETFROM:+0100
TZOFFSETTO:+0200
TZNAME:CEST
DTSTART:20220327T010000
END:DAYLIGHT
BEGIN:STANDARD
TZOFFSETFROM:+0200
TZOFFSETTO:+0100
TZNAME:CET
DTSTART:20221030T010000
END:STANDARD
END:VTIMEZONE
BEGIN:VEVENT
DTSTART;VALUE=DATE:20210922
DTEND;VALUE=DATE:20211206
DTSTAMP:20260426T014510
CREATED:20220404T212718Z
LAST-MODIFIED:20220520T092633Z
UID:240-1632268800-1638748799@lesdiptik.com
SUMMARY:Tournée SEPTIK
DESCRIPTION:2 sept \n3 sept \n4 sept
URL:https://lesdiptik.com/en/event/tournee-septik/
LOCATION:Sicilia
CATEGORIES:On tour,Septik
ATTACH;FMTTYPE=image/jpeg:https://lesdiptik.com/mainsite/wp-content/uploads/2022/04/SEPTIK©julien-james-auzan-1.jpg
END:VEVENT
END:VCALENDAR