BEGIN:VCALENDAR
VERSION:2.0
PRODID:-//Compagnie Les Diptik - ECPv6.15.20//NONSGML v1.0//EN
CALSCALE:GREGORIAN
METHOD:PUBLISH
X-WR-CALNAME:Compagnie Les Diptik
X-ORIGINAL-URL:https://lesdiptik.com/de/
X-WR-CALDESC:Veranstaltungen für Compagnie Les Diptik
REFRESH-INTERVAL;VALUE=DURATION:PT1H
X-Robots-Tag:noindex
X-PUBLISHED-TTL:PT1H
BEGIN:VTIMEZONE
TZID:Europe/Paris
BEGIN:DAYLIGHT
TZOFFSETFROM:+0100
TZOFFSETTO:+0200
TZNAME:CEST
DTSTART:20230326T010000
END:DAYLIGHT
BEGIN:STANDARD
TZOFFSETFROM:+0200
TZOFFSETTO:+0100
TZNAME:CET
DTSTART:20231029T010000
END:STANDARD
BEGIN:DAYLIGHT
TZOFFSETFROM:+0100
TZOFFSETTO:+0200
TZNAME:CEST
DTSTART:20240331T010000
END:DAYLIGHT
BEGIN:STANDARD
TZOFFSETFROM:+0200
TZOFFSETTO:+0100
TZNAME:CET
DTSTART:20241027T010000
END:STANDARD
BEGIN:DAYLIGHT
TZOFFSETFROM:+0100
TZOFFSETTO:+0200
TZNAME:CEST
DTSTART:20250330T010000
END:DAYLIGHT
BEGIN:STANDARD
TZOFFSETFROM:+0200
TZOFFSETTO:+0100
TZNAME:CET
DTSTART:20251026T010000
END:STANDARD
END:VTIMEZONE
BEGIN:VEVENT
DTSTART;TZID=Europe/Paris:20240722T090000
DTEND;TZID=Europe/Paris:20240725T160000
DTSTAMP:20260426T050553
CREATED:20240229T104017Z
LAST-MODIFIED:20240309T132243Z
UID:1276-1721638800-1721923200@lesdiptik.com
SUMMARY:Clown Workshop
DESCRIPTION:4-tägiger Workshop Clown-Workshop mit David Melendy von der Company Les Diptik\nVom 22. bis 25. Juli 2024\, von 9:00 bis 16:00 Uhr. \nWährend dieser 4 Tage werden wir den Stil des Theaterclowns erforschen\, den das Duo Les Diptik praktiziert\, sowie die Techniken und Methoden\, die sie anwenden\, wenn sie neues Material kreieren.\nDie Arbeit wird sich auf die Erforschung des clownesken Zustands durch Übungen\, Improvisation und Spiel konzentrieren. Die Arbeit ist sehr auf den Körper und die Bewegung ausgerichtet. Wir werden damit spielen\, Charaktere und Clowns zu erschaffen\, jemand Neues zu sein und sich selbst zu sein.\nSie werden ermutigt\, bereit zu kommen\, um viele verschiedene “Clowns” zu werden. Die Arbeit an einer bestimmten Nummer oder einem bestimmten “Clown/Charakter” ist nicht das Ziel dieses Workshops.\nDie Arbeitssprache hängt von der Zusammensetzung der Gruppe ab. Die Teilnehmer/innen sollten sich entweder mit Englisch\, Französisch\, Deutsch oder Italienisch wohl fühlen oder sich wohl fühlen\, ohne die Arbeitssprache zu verstehen. \nFÜR WEN\nDieser Workshop ist für Erwachsene.\nTeilnehmer/innen müssen keine vorherige Erfahrung mit Clown haben\, aber ein Minimum an Aufführungserfahrung wird vorausgesetzt (Theater\, Tanz\, Zirkus\, andere…). \nWO\n Labo Théâtre\nMaison des Artistes\nJean-Prouvé 6\n1762 Givisiez\n(weniger als 10 Minuten vom Bahnhof Fribourg mit öffentlichen Verkehrsmitteln entfernt) \nPREIS\nBei diesem Workshop können Sie den Preis selbst bestimmen. Wir ermutigen Sie\, einen Betrag zu wählen\, der sowohl Ihrer finanziellen Situation als auch dem Wert\, den diese vier Tage für Sie darstellen\, entspricht. Unser Ziel ist es\,  diesen Workshop für alle zugänglich zu machen.\nWenn Sie weitere Informationen benötigen\, scrollen Sie nach unten bis ans Ende dieser Seite. \n ANMELDUNG\nBitte schreiben Sie an info@lesdiptik.com und beschreiben Sie kurz Ihre Erfahrung und Ihr Interesse.\nSie müssen sich im Voraus anmelden\, um Ihren Platz zu reservieren. Die Teilnahme wird nicht garantiert.\nMaximal 12 Teilnehmer/innen\, Minimum 7. \nFRAGEN\nAlle Fragen sind willkommen\, zögern Sie nicht\, eine E-Mail an info-at-lesdiptik.com zu senden. \n \n \nphotos\ncover and left : © Konstantin Demeter\nright: © Jean Paul Guinnard\nBenötigen Sie weitere Informationen über den Preis? \nDieses Workshop funktioniert nach dem Prinzip des “Wähle deinen eigenen Preis”. Das bedeutet\, dass Sie wählen können\, CHF 4.50 zu zahlen\, Sie können sich dafür entscheiden\, CHF 4’500.- zu zahlen\, oder Sie können etwas anderes wählen\, und es wird akzeptiert. \nHier sind einige zusätzliche Informationen zur Organisation des Workshops: \n\nDie Gesamtstunden\, die ich für Vorbereitung\, Verwaltung\, Organisation und Unterricht aufwende\, entsprechen etwa 6 Tagen Vollzeitarbeit.\nIch habe keine Kinder oder andere abhängige Personen.\nEs werden zwischen 7-12 Teilnehmer*innen am Workshop teilnehmen.\nIch habe über 10 Jahre Berufserfahrung im Bereich Theater/Zirkus und Unterricht.\nDie Nutzung des LaboTheatre verursacht für mich keine zusätzlichen Mietkosten\, da meine Kompagnie Les Diptik Mitglied des Vereins ist und ich den Raum kostenlos nutzen kann.\n\nWenn Sie unsicher sind\, hier sind einige Überlegungen\, die Sie in Betracht ziehen könnten: \n\nWie viel Sie in Ihrem Job für die gleiche Zeitspanne verdienen.\nWie viel Ihr Onkel in seinem Job für die gleiche Zeitspanne verdient.\nDer Betrag\, den Sie beim letzten von Ihnen besuchten Workshop gezahlt haben.\nFür eine Person meines Profils schlagen viele Institutionen sowie die professionellen Darstellenden-Kunst-Gewerkschaften in der Schweiz ein wöchentliches Gehalt von CHF 1’600 – 2’000.- vor.\n\n 
URL:https://lesdiptik.com/de/event/clown-workshop/
LOCATION:Labo Théatre\, Rue Jean Prouvé 8\, Givisiez\, FR\, 1762\, Switzerland
ATTACH;FMTTYPE=image/jpeg:https://lesdiptik.com/mainsite/wp-content/uploads/2022/06/ATD_Estivi_310720_Ad_Clown_Melendy_Rey_4-scaled.jpg
ORGANIZER;CN="Les Diptik":MAILTO:info@lesdiptik.com
END:VEVENT
END:VCALENDAR